Workbook
Name OrgCodeSelection: 'Control Panel'!$E$6
Name OrgNameSelection: 'Control Panel'!$F$6
Name Orgs: 'Reference Data'!$D$2:$E$202
Name SiteOrgCodes: 'Reference Data'!$H$2:$H$4385
Name Sites: 'Reference Data'!$G$2:$J$4385
Name Specialties: 'Reference Data'!$A$2:$A$84
Name WardSiteCodes: Wards!$D$2:$D$6870

Sheet Revision History
B2: Revision History
C3: NStf-Fil | D3: =OrgCodeSelection -> RTQ
B4: Version | C4: Date | D4: Change | E4: Change by | F4: Put Live | G4: Put live By
B5: 31 | C5: 44043 | D5: First UDF Version
B6: 32 | C6: 44054 | D6: Updated ref data for RAJ (merged in RDD and RQ8, but incomplete as not all sites are ODS-registered to RAJ
B7: 33 | C7: 44071 | D7: remove UDFs and replace template with formula-based solution. | J7: DM-6913 | K7: SF
B8: 34 | C8: 44079 | D8: #VALUE! Fix - DM-6980
B9: 35 | C9: 44103 | D9: Ref data updates DM-6963
B10: 36 | C10: 44187 | D10: Ref data updates DM-7206
B11: 36.1 | C11: 44218 | D11: error changed to warning - AB - to be reviewed in April - major version required for next month
B12: 37 | C12: 44225 | D12: 4 x changes | E12: DM-8002
B13: 38 | C13: 44323 | D13: Added Brackley Community Hospital and Ward - Brackley to the ref data
B14: 39 | C14: 44344 | D14: DM-8935
B15: 40 | C15: 44371 | D15: DM-9177
B16: 41 | C16: 44405 | D16: DM-9528 - updated ref data
B17: 41.1 | C17: 44516 | D17: DM-10126
B18: 41.2 | C18: 44523 | D18: DM-10139
B19: 41.3 | C19: 44547 | D19: DM-10182
B20: 41.4 | C20: 44572 | D20: DM-10243
B21: 41.5 | C21: 44617 | D21: DM-10475
B22: 41.6 | C22: 44662 | D22: DM-10596
B23: 42 | C23: 44704 | D23: DM-10607
B24: 42.1 | C24: 44743 | D24: DM-10751
... B28: 42.7 | C28: 45155 | D28: Amended name for RBN re merger & added two RBN sites
B29: 42.8 | C29: 45351 | D29: informational contact email changed to england.modelhospitaloperations@nhs.net DEP007-2456 | E29: Peter.reffell1@nhs.net
B30: 44 | C30: 45379 | D30: https://nhsd-jira.digital.nhs.uk/browse/DEP007-1365 | E30: CR | F30: 45379 | G30: JW
B31: 44.1 | C31: 45415 | D31: DEP007-2612 - readded forest of dean hospital after erroneously leaving out on new version of template | E31: CR - BV Reviewed
B32: 44.2 | C32: 45448 | D32: SCTASK0171432 - readded St Mary's hospital location after erroneously leaving out of new version of template | E32: No review - development already reviewed and completed.
B33: 44.3 | C33: 45485 | D33: SCTASK0181375 - drop down not working correctly
B34: 44.4 | C34: 45491 | D34: DEP007-2807 | E34: CR - BV Reviewed
B35: 44.5 | C35: 45502 | D35: DEP007-2830 | E35: BV - CR reviewed
B36: 44.6 | C36: 45533 | D36: DEP007-2882 | E36: CR - BV Reviewed
B37: 44.7 | C37: 45553 | D37: DEP007-2962 | E37: CR - BV Reviewed
B38: 44.8 | C38: 45566 | D38: DEP007-2990 | E38: CR - PR Reviewed
B39: 44.9 | C39: 45579 | D39: DEP007-3011 | E39: CR - BV Reviewed
B40: 44.11 | C40: 45632 | D40: DEP007-3159 - skipped to 44.11 due to name formatting for SDCS. | E40: CR-AS Reviewed
B41: 44.12 | C41: 45638 | D41: DEP007-3159, DEP007-3181, DEP007-3182 | E41: AS-CR Reviewed
B42: 44.13 | C42: 45663 | D42: Ref data update
B43: 44.14 | C43: 45664 | D43: Ref data Update | E43: CR-AS Reviewed
B44: 44.14 | C44: 45671 | D44: DEP007-3228 (version not on sdcs yet so keeping same version | E44: CR-BV Reviewed
...

Sheet templatemetadata
A1: Password | B1: missvanjie
A2: RefData
B3: Wards
C4: Concatenate | D4: $A$1:$A$6771
C5: Org code | D5: $B$1:$B$6771 | E5: CCG/ICS
C6: Org name | D6: $C$1:$C$6771
C7: Site Code | D7: $D$1:$D$6771
C8: Site Name | D8: $E$1:$E$6771
C9: Ward | D9: $F$1:$F$2216
B10: Reference Data
C11: Concat Construction | D11: $J$1:$J$4801
C12: AXG | D12: $H$2:$H$4801 | E12: CCG/ICS
C13: SAVERNAKE COMMUNITY HOSPITAL | D13: $I$2:$I$4801
C14: Sites | D14: $G$1:$G$4801
C15: AIREDALE NHS FOUNDATION TRUST | D15: $E$2:$E$204
A16: <END>

Sheet Dev Notes
A2: Date | B2: Change
A3: 45300 | B3: Added PRISCILLA BACON LODGE as a ward for site:PRISCILLA BACON LODGE
A4: 45371 | B4: ADDED The Princess Royal Hospital - Subacute Ward 36 (R1D03) and Royal Shrewsbury Hospital - Subacute Ward 18 (R1D16)

Sheet Control Panel
A1: X
D2: Safe Staffing (Rota Fill Rates and CHPPD) Collection
D4: Please check that the data on this upload template is accurate before being submitted to SDCS. You are reminded that these figures will be published, and it is the responsibility of your organisation that these submitted figures are accurate and in line with national guidance. We will undertake basic validation checks on these figures post submission, and may come back to you with any queries we may have.
E6: RTQ | F6: =VLOOKUP(OrgCodeSelection,Orgs,2,FALSE) -> GLOUCESTERSHIRE HEALTH AND CARE NHS FOUNDATION TRUST
D12: {=IF(ISERROR(MacroCheck(NOW())), "Please enable macros when using this template",IF($E$6="","No organisation has been selected. You cannot submit this template.",IF(COUNTBLANK(Errors!$E$7:$K$206)<>1400,"This template contains errors and will FAIL at submission. Please review the Errors tab for more information",IF(COUNTBLANK('Trust - Frontsheet'!E16:AC215)=5000,"You have not entered any data. The submission will FAIL","No errors have been found in this template. It will be accepted by the SDCS portal"))))} -> No errors have been found in this template. It will be accepted by the SDCS portal | F12: =IF(OR(COUNTBLANK(Warnings!$E$14:$S$213)<>3000,COUNTBLANK(Warnings!$B$7:$K$7)<>10),"There may be issues with these data. Please review the Warnings tab for more information","") -> There may be issues with these data. Please review the Warnings tab for more information
D15: If you have any issues regarding this template please review the Important Information tab before contacting Data Collections
D25: If you have any further queries please contact:
D26: england.modelhospitaloperations@nhs.net

Sheet SDCS
A1: =IF(OrgCodeSelection="","You have not selected an Organistion",IF(COUNTBLANK('Trust - Frontsheet'!E16:AC215)=5000,"You have not entered any data. The submission will FAIL",IF(COUNTBLANK(Errors!$E$7:$K$206)<>1400,"There are errors on this sheet. This submission will FAIL. Please review the Errors tab for more information",""))) | B1: =IF(OR(COUNTBLANK(Warnings!$E$14:$S$213)<>3000,COUNTBLANK(Warnings!$B$7:$K$7)<>10),"There may be issues with these data. Please review the Warnings tab for more information","") -> There may be issues with these data. Please review the Warnings tab for more information
A2: =IF('Control Panel'!$D$12="Please enable macros when using this template","Please enable macros when using this template","")

Sheet Important Information

Sheet Trust - Frontsheet
D2: Safe Staffing (Rota Fill Rates and CHPPD) Collection
D5: Organisation: | E5: =IF(ISBLANK(OrgCodeSelection),"",OrgCodeSelection) -> RTQ | F5: =IF(ISBLANK(OrgNameSelection),"",OrgNameSelection) -> GLOUCESTERSHIRE HEALTH AND CARE NHS FOUNDATION TRUST | AC5: x
AD6: =""
F7: Please provide the URL to the page on your trust website where your staffing information is available
F8: (Please can you ensure that the URL you attach to the spreadsheet is correct and links to the correct web page and include 'http://' in your URL)
F9: http://www.ghc.nhs.uk/our-approach-to-quality/safe-staffing-levels/
F10: =IFERROR(IF(COUNTBLANK(E16:AC215)=5000,"You have not entered any data. The submission will FAIL",IF(COUNTBLANK(Errors!$E$7:$K$206)<>1400,"There are errors on this sheet. This submission will FAIL. Please review the Errors tab for more information",IF(OR(COUNTBLANK(Warnings!$E$14:$S$213)<>3000,COUNTBLANK(Warnings!$B$7:$K$7)<>10),"There may be issues with these data. Please review the Warnings tab for more information",""))),"") -> There may be issues with these data. Please review the Warnings tab for more information
F11: Only complete sites your organisation is accountable for | I11: Day | Q11: Night | Y11: Allied Health Professionals | AC11: Cumulative count over the month of patients at 23:59 each day | AD11: Care Hours Per Patient Day (CHPPD) | AK11: Day | AO11: Night | AS11: Allied Health Professionals
D12: Hospital Site Details | F12: Ward name | G12: Main 2 Specialties on each ward | I12: Registered Nurses/Midwives | K12: Non-registered Nurses/Midwives (Care Staff) | M12: Registered Nursing Associates | O12: Non-registered Nursing Associates | Q12: Registered Nurses/Midwives | S12: Non-registered Nurses/Midwives (Care Staff) | U12: Registered Nursing Associates | W12: Non-registered Nursing Associates | Y12: Registered allied health professionals | AA12: Non-registered allied health professionals | AD12: Registered Nurses/Midwives | AE12: Non-registered Nurses/Midwives | AF12: Registered Nursing Associates | AG12: Non-registered Nursing Associates | AH12: Registered allied health professionals | AI12: Non-registered allied health professionals | AJ12: Overall | AK12: Average fill rate - Registered Nurses/Midwives (%) | AL12: Average fill rate - Non-registered Nurses/Midwives (care staff) (%) | AM12: Average fill rate - Registered Nursing Associates (%) | AN12: Average fill rate - Non-Registered Nursing Associates (%) | AO12: Average fill rate - Registered Nurses/Midwives (%) | AP12: Average fill rate - Non-registered Nurses/Midwives (care staff) (%) | AQ12: Average fill rate - Registered Nursing Associates (%) | AR12: Average fill rate - Non-Registered Nursing Associates (%) | AS12: Average fill rate - registered allied health professionals (AHP) (%) | AT12: Average fill rate - non-registered allied health professionals (AHP) (%)
A13: Site-Ward Concat | D13: Site code *The Site code is automatically populated when a Site name is selected | E13: Hospital Site name | G13: Specialty 1 | H13: Specialty 2 | I13: Total monthly planned staff hours | J13: Total monthly actual staff hours | K13: Total monthly planned staff hours | L13: Total monthly actual staff hours | M13: Total monthly planned staff hours | N13: Total monthly actual staff hours | O13: Total monthly planned staff hours | P13: Total monthly actual staff hours | Q13: Total monthly planned staff hours | R13: Total monthly actual staff hours | S13: Total monthly planned staff hours | T13: Total monthly actual staff hours | U13: Total monthly planned staff hours | V13: Total monthly actual staff hours | W13: Total monthly planned staff hours | X13: Total monthly actual staff hours | Y13: Total monthly planned staff hours | Z13: Total monthly actual staff hours | AA13: Total monthly planned staff hours | AB13: Total monthly actual staff hours
D14: SiteCode | E14: SiteName | F14: WardName | G14: Spec1 | H14: Spec2 | I14: RNM_Planned_Day | J14: RNM_Actual_Day | K14: NRNM_Planned_Day | L14: NRNM_Actual_Day | M14: RNA_Planned_Day | N14: RNA_Actual_Day | O14: NRNA_Planned_Day | P14: NRNA_Actual_Day | Q14: RNM_Planned_Night | R14: RNM_Actual_Night | S14: NRNM_Planned_Night | T14: NRNM_Actual_Night | U14: RNA_Planned_Night | V14: RNA_Actual_Night | W14: NRNA_Planned_Night | X14: NRNA_Actual_Night | Y14: RAHP_Planned | Z14: RAHP_Actual | AA14: NRAHP_Planned | AB14: NRAHP_Actual | AC14: PatientCount | AD14: CHPPD_RNM | AE14: CHPPD_NRNM | AF14: CHPPD_RNA | AG14: CHPPD_NRNA | AH14: CHPPD_RAHP | AI14: CHPPD_NRAHP | AJ14: CHPPD_Overall | AK14: AvgFR_RNM_Day | AL14: AvgFR_NRNM_Day | AM14: AvgFR_RNA_Day | AN14: AvgFR_NRNA_Day | AO14: AvgFR_RNM_Night | AP14: AvgFR_NRNM_Night | AQ14: AvgFR_RNA_Night | AR14: AvgFR_NRNA_Night | AS14: AvgFR_RAHP | AT14: AvgFR_NRAHP
F15: Total | I15: =SUM(INDIRECT("I16:I215")) -> 25003.583 | J15: =SUM(INDIRECT("J16:J215")) -> 22523.567 | K15: =SUM(INDIRECT("K16:K215")) -> 33903.917 | L15: =SUM(INDIRECT("L16:L215")) -> 35930.1 | M15: =SUM(INDIRECT("M16:M215")) -> 0 | N15: =SUM(INDIRECT("N16:N215")) -> 541.33333 | O15: =SUM(INDIRECT("O16:O215")) -> 0 | P15: =SUM(INDIRECT("P16:P215")) -> 98.5 | Q15: =SUM(INDIRECT("Q16:Q215")) -> 12400 | R15: =SUM(INDIRECT("R16:R215")) -> 12694.55 | S15: =SUM(INDIRECT("S16:S215")) -> 15468.25 | T15: =SUM(INDIRECT("T16:T215")) -> 17019.983 | U15: =SUM(INDIRECT("U16:U215")) -> 0 | V15: =SUM(INDIRECT("V16:V215")) -> 115.41667 | W15: =SUM(INDIRECT("W16:W215")) -> 0 | X15: =SUM(INDIRECT("X16:X215")) -> 0 | Y15: =SUM(INDIRECT("Y16:Y215")) -> 5455.5 | Z15: =SUM(INDIRECT("Z16:Z215")) -> 3392.5 | AA15: =SUM(INDIRECT("AA16:AA215")) -> 3082.5 | AB15: =SUM(INDIRECT("AB16:AB215")) -> 1710 | AC15: =SUM(INDIRECT("AC16:AC215")) -> 9699 | AD15: =IFERROR(IF(INDIRECT("$AC" &ROW()) ="","",SUM(INDIRECT("J" &ROW()),INDIRECT("R" & ROW()))/INDIRECT("$AC" &ROW())),"-") -> 3.631108 | AE15: =IFERROR(IF(INDIRECT("$AC"&ROW())="","",SUM(INDIRECT("L"&ROW()),INDIRECT("T"&ROW()))/INDIRECT("$AC"&ROW())),"-") -> 5.4593343 | AF15: =IFERROR(IF(INDIRECT("$AC" &ROW())="","",SUM(INDIRECT("N" &ROW()),INDIRECT("V" &ROW()))/INDIRECT("$AC" &ROW())),"-") -> 0.067713166 | AG15: =IFERROR(IF(INDIRECT("$AC" &ROW())="","",SUM(INDIRECT("P" &ROW()),INDIRECT("X" &ROW()))/INDIRECT("$AC" &ROW())),"-") -> 0.010155686 | AH15: =IFERROR(IF(INDIRECT("$AC" &ROW())="","",INDIRECT("Z" &ROW())/INDIRECT("$AC" &ROW())),"-") -> 0.34977833 | AI15: =IFERROR(IF(INDIRECT("$AC" &ROW())="","",INDIRECT("AB" &ROW())/INDIRECT("$AC" &ROW())),"-") -> 0.17630684 | AJ15: =IFERROR(IF(AC15="","",SUM(J15,L15,N15,P15,R15,T15,V15,X15,Z15,AB15)/AC15),"-") -> 9.6943963 | AK15: =IFERROR(IF(INDIRECT("I" &ROW())="","",INDIRECT("J" &ROW())/INDIRECT("I" &ROW())),"-") -> 0.90081355 | AL15: =IFERROR(IF(INDIRECT("K" &ROW())="","",INDIRECT("L" &ROW())/INDIRECT("K" &ROW())),"-") -> 1.0597625 | AM15: =IFERROR(IF(INDIRECT("M" &ROW())="","",INDIRECT("N" &ROW())/INDIRECT("M" &ROW())),"-") -> - | AN15: =IFERROR(IF(INDIRECT("O" &ROW())="","",INDIRECT("P" &ROW())/INDIRECT("O" &ROW())),"-") -> - | AO15: =IFERROR(IF(INDIRECT("Q" &ROW())="","",INDIRECT("R" &ROW())/INDIRECT("Q" &ROW())),"-") -> 1.023754 | AP15: =IFERROR(IF(INDIRECT("S" &ROW())="","",INDIRECT("T" &ROW())/INDIRECT("S" &ROW())),"-") -> 1.1003173 | AQ15: =IFERROR(IF(INDIRECT("U" &ROW())="","",INDIRECT("V" &ROW())/INDIRECT("U" &ROW())),"-") -> - | AR15: =IFERROR(IF(INDIRECT("W" &ROW())="","",INDIRECT("X" &ROW())/INDIRECT("W" &ROW())),"-") -> - | AS15: =IFERROR(IF(INDIRECT("Y" &ROW())="","",INDIRECT("Z" &ROW())/INDIRECT("Y" &ROW())),"-") -> 0.62184951 | AT15: =IFERROR(IF(INDIRECT("AA" &ROW())="","",INDIRECT("AB" &ROW())/INDIRECT("AA" &ROW())),"-") -> 0.55474453
A16: {=INDIRECT("D" & ROW())&INDIRECT("F" & ROW())} -> RTQ02Abbey | D16: =IFERROR(VLOOKUP($E$5&E16,Sites,4,FALSE),"") -> RTQ02 | E16: WOTTON LAWN HOSPITAL | F16: Abbey | G16: 710 - ADULT MENTAL ILLNESS | I16: 1395 | J16: 1176.3333 | K16: 930 | L16: 1408.5 | M16: 0 | N16: 60 | O16: 0 | P16: 0 | Q16: 310 | R16: 578.43333 | S16: 620 | T16: 904.41667 | U16: 0 | V16: 40 | W16: 0 | X16: 0 | Y16: 0 | Z16: 0 | AA16: 0 | AB16: 0 | AC16: 371 | AD16: =IF(A16="","",IFERROR((VLOOKUP(A16,A16:AC216,10,0)+VLOOKUP(A16,A16:AC216,18,0))/VLOOKUP(A16,A16:AC216,29,0),"-")) -> 4.7298293 | AE16: =IF(A16="","",IFERROR((VLOOKUP(A16,A16:AC216,12,0)+VLOOKUP(A16,A16:AC216,20,0))/VLOOKUP(A16,A16:AC216,29,0),"-")) -> 6.2342767 | AF16: =IF(A16="","",IFERROR((VLOOKUP(A16,A16:AC216,14,0)+VLOOKUP(A16,A16:AC216,22,0))/VLOOKUP(A16,A16:AC216,29,0),"-")) -> 0.26954178 | AG16: =IF(A16="","",IFERROR((VLOOKUP(A16,A16:AC216,16,0)+VLOOKUP(A16,A16:AC216,24,0))/VLOOKUP(A16,A16:AC216,29,0),"-")) -> 0 | AH16: =IF(A16="","",IFERROR(VLOOKUP(A16,A16:AC216,26,0)/VLOOKUP(A16,A16:AC216,29,0),"-")) -> 0 | AI16: =IF(A16="","",IFERROR(VLOOKUP(A16,A16:AC216,28,0)/VLOOKUP(A16,A16:AC216,29,0),"-")) -> 0 | AJ16: =IF(A16="","",IFERROR((VLOOKUP(A16,A16:AC216,10,0)+VLOOKUP(A16,A16:AC216,12,0)+VLOOKUP(A16,A16:AC216,14,0)+VLOOKUP(A16,A16:AC216,16,0)+VLOOKUP(A16,A16:AC216,18,0)+VLOOKUP(A16,A16:AC216,20,0)+VLOOKUP(A16,A16:AC216,22,0)+VLOOKUP(A16,A16:AC216,24,0)+VLOOKUP(A16,A16:AC216,26,0)+VLOOKUP(A16,A16:AC216,28,0))/VLOOKUP(A16,A16:AC216,29,0),"-")) -> 11.233648 | AK16: =IF(A16="","",IFERROR(VLOOKUP(A16,A16:AC216,10,0)/VLOOKUP(A16,A16:AC216,9,0),"-")) -> 0.8432497 | AL16: =IF(A16="","",IFERROR(VLOOKUP(A16,A16:AC216,12,0)/VLOOKUP(A16,A16:AC216,11,0),"-")) -> 1.5145161 | AM16: =IF(A16="","",IFERROR(VLOOKUP(A16,A16:AC216,14,0)/VLOOKUP(A16,A16:AC216,13,0),"-")) -> - | AN16: =IF(A16="","",IFERROR(VLOOKUP(A16,A16:AC216,16,0)/VLOOKUP(A16,A16:AC216,15,0),"-")) -> - | AO16: =IF(A16="","",IFERROR(VLOOKUP(A16,A16:AC216,18,0)/VLOOKUP(A16,A16:AC216,17,0),"-")) -> 1.865914 | AP16: =IF(A16="","",IFERROR(VLOOKUP(A16,A16:AC216,20,0)/VLOOKUP(A16,A16:AC216,19,0),"-")) -> 1.4587366 | AQ16: =IF(A16="","",IFERROR(VLOOKUP(A16,A16:AC216,22,0)/VLOOKUP(A16,A16:AC216,21,0),"-")) -> - | AR16: =IF(A16="","",IFERROR(VLOOKUP(A16,A16:AC216,24,0)/VLOOKUP(A16,A16:AC216,23,0),"-")) -> - | AS16: =IF(A16="","",IFERROR(VLOOKUP(A16,A16:AC216,26,0)/VLOOKUP(A16,A16:AC216,25,0),"-")) -> - | AT16: =IF(A16="","",IFERROR(VLOOKUP(A16,A16:AC216,28,0)/VLOOKUP(A16,A16:AC216,27,0),"-")) -> -
A17: {=INDIRECT("D" & ROW())&INDIRECT("F" & ROW())} -> RTQ02Dean | D17: =IFERROR(VLOOKUP($E$5&E17,Sites,4,FALSE),"") -> RTQ02 | E17: WOTTON LAWN HOSPITAL | F17: Dean | G17: 710 - ADULT MENTAL ILLNESS | I17: 1395 | J17: 1089.55 | K17: 1395 | L17: 1894.7667 | M17: 0 | N17: 169.41667 | O17: 0 | P17: 0 | Q17: 620 | R17: 713.16667 | S17: 620 | T17: 1020.8333 | U17: 0 | V17: 40.666667 | W17: 0 | X17: 0 | Y17: 0 | Z17: 0 | AA17: 0 | AB17: 15 | AC17: 445 | AD17: =IF(A17="","",IFERROR((VLOOKUP(A17,A17:AC217,10,0)+VLOOKUP(A17,A17:AC217,18,0))/VLOOKUP(A17,A17:AC217,29,0),"-")) -> 4.0510487 | AE17: =IF(A17="","",IFERROR((VLOOKUP(A17,A17:AC217,12,0)+VLOOKUP(A17,A17:AC217,20,0))/VLOOKUP(A17,A17:AC217,29,0),"-")) -> 6.5519101 | AF17: =IF(A17="","",IFERROR((VLOOKUP(A17,A17:AC217,14,0)+VLOOKUP(A17,A17:AC217,22,0))/VLOOKUP(A17,A17:AC217,29,0),"-")) -> 0.47209738 | AG17: =IF(A17="","",IFERROR((VLOOKUP(A17,A17:AC217,16,0)+VLOOKUP(A17,A17:AC217,24,0))/VLOOKUP(A17,A17:AC217,29,0),"-")) -> 0 | AH17: =IF(A17="","",IFERROR(VLOOKUP(A17,A17:AC217,26,0)/VLOOKUP(A17,A17:AC217,29,0),"-")) -> 0 | AI17: =IF(A17="","",IFERROR(VLOOKUP(A17,A17:AC217,28,0)/VLOOKUP(A17,A17:AC217,29,0),"-")) -> 0.033707865 | AJ17: =IF(A17="","",IFERROR((VLOOKUP(A17,A17:AC217,10,0)+VLOOKUP(A17,A17:AC217,12,0)+VLOOKUP(A17,A17:AC217,14,0)+VLOOKUP(A17,A17:AC217,16,0)+VLOOKUP(A17,A17:AC217,18,0)+VLOOKUP(A17,A17:AC217,20,0)+VLOOKUP(A17,A17:AC217,22,0)+VLOOKUP(A17,A17:AC217,24,0)+VLOOKUP(A17,A17:AC217,26,0)+VLOOKUP(A17,A17:AC217,28,0))/VLOOKUP(A17,A17:AC217,29,0),"-")) -> 11.108764 | AK17: =IF(A17="","",IFERROR(VLOOKUP(A17,A17:AC217,10,0)/VLOOKUP(A17,A17:AC217,9,0),"-")) -> 0.78103943 | AL17: =IF(A17="","",IFERROR(VLOOKUP(A17,A17:AC217,12,0)/VLOOKUP(A17,A17:AC217,11,0),"-")) -> 1.3582557 | AM17: =IF(A17="","",IFERROR(VLOOKUP(A17,A17:AC217,14,0)/VLOOKUP(A17,A17:AC217,13,0),"-")) -> - | AN17: =IF(A17="","",IFERROR(VLOOKUP(A17,A17:AC217,16,0)/VLOOKUP(A17,A17:AC217,15,0),"-")) -> - | AO17: =IF(A17="","",IFERROR(VLOOKUP(A17,A17:AC217,18,0)/VLOOKUP(A17,A17:AC217,17,0),"-")) -> 1.1502688 | AP17: =IF(A17="","",IFERROR(VLOOKUP(A17,A17:AC217,20,0)/VLOOKUP(A17,A17:AC217,19,0),"-")) -> 1.6465054 | AQ17: =IF(A17="","",IFERROR(VLOOKUP(A17,A17:AC217,22,0)/VLOOKUP(A17,A17:AC217,21,0),"-")) -> - | AR17: =IF(A17="","",IFERROR(VLOOKUP(A17,A17:AC217,24,0)/VLOOKUP(A17,A17:AC217,23,0),"-")) -> - | AS17: =IF(A17="","",IFERROR(VLOOKUP(A17,A17:AC217,26,0)/VLOOKUP(A17,A17:AC217,25,0),"-")) -> - | AT17: =IF(A17="","",IFERROR(VLOOKUP(A17,A17:AC217,28,0)/VLOOKUP(A17,A17:AC217,27,0),"-")) -> -
A18: {=INDIRECT("D" & ROW())&INDIRECT("F" & ROW())} -> RTQ02Greyfriars | D18: =IFERROR(VLOOKUP($E$5&E18,Sites,4,FALSE),"") -> RTQ02 | E18: WOTTON LAWN HOSPITAL | F18: Greyfriars | G18: 710 - ADULT MENTAL ILLNESS | I18: 1627.5 | J18: 1075.1667 | K18: 1395 | L18: 1973.4333 | M18: 0 | N18: 45.25 | O18: 0 | P18: 0 | Q18: 620 | R18: 602.83333 | S18: 620 | T18: 1173.0833 | U18: 0 | V18: 10 | W18: 0 | X18: 0 | Y18: 0 | Z18: 0 | AA18: 0 | AB18: 0 | AC18: 301 | AD18: =IF(A18="","",IFERROR((VLOOKUP(A18,A18:AC218,10,0)+VLOOKUP(A18,A18:AC218,18,0))/VLOOKUP(A18,A18:AC218,29,0),"-")) -> 5.5747508 | AE18: =IF(A18="","",IFERROR((VLOOKUP(A18,A18:AC218,12,0)+VLOOKUP(A18,A18:AC218,20,0))/VLOOKUP(A18,A18:AC218,29,0),"-")) -> 10.453544 | AF18: =IF(A18="","",IFERROR((VLOOKUP(A18,A18:AC218,14,0)+VLOOKUP(A18,A18:AC218,22,0))/VLOOKUP(A18,A18:AC218,29,0),"-")) -> 0.18355482 | AG18: =IF(A18="","",IFERROR((VLOOKUP(A18,A18:AC218,16,0)+VLOOKUP(A18,A18:AC218,24,0))/VLOOKUP(A18,A18:AC218,29,0),"-")) -> 0 | AH18: =IF(A18="","",IFERROR(VLOOKUP(A18,A18:AC218,26,0)/VLOOKUP(A18,A18:AC218,29,0),"-")) -> 0 | AI18: =IF(A18="","",IFERROR(VLOOKUP(A18,A18:AC218,28,0)/VLOOKUP(A18,A18:AC218,29,0),"-")) -> 0 | AJ18: =IF(A18="","",IFERROR((VLOOKUP(A18,A18:AC218,10,0)+VLOOKUP(A18,A18:AC218,12,0)+VLOOKUP(A18,A18:AC218,14,0)+VLOOKUP(A18,A18:AC218,16,0)+VLOOKUP(A18,A18:AC218,18,0)+VLOOKUP(A18,A18:AC218,20,0)+VLOOKUP(A18,A18:AC218,22,0)+VLOOKUP(A18,A18:AC218,24,0)+VLOOKUP(A18,A18:AC218,26,0)+VLOOKUP(A18,A18:AC218,28,0))/VLOOKUP(A18,A18:AC218,29,0),"-")) -> 16.211849 | AK18: =IF(A18="","",IFERROR(VLOOKUP(A18,A18:AC218,10,0)/VLOOKUP(A18,A18:AC218,9,0),"-")) -> 0.66062468 | AL18: =IF(A18="","",IFERROR(VLOOKUP(A18,A18:AC218,12,0)/VLOOKUP(A18,A18:AC218,11,0),"-")) -> 1.4146476 | AM18: =IF(A18="","",IFERROR(VLOOKUP(A18,A18:AC218,14,0)/VLOOKUP(A18,A18:AC218,13,0),"-")) -> - | AN18: =IF(A18="","",IFERROR(VLOOKUP(A18,A18:AC218,16,0)/VLOOKUP(A18,A18:AC218,15,0),"-")) -> - | AO18: =IF(A18="","",IFERROR(VLOOKUP(A18,A18:AC218,18,0)/VLOOKUP(A18,A18:AC218,17,0),"-")) -> 0.97231183 | AP18: =IF(A18="","",IFERROR(VLOOKUP(A18,A18:AC218,20,0)/VLOOKUP(A18,A18:AC218,19,0),"-")) -> 1.8920699 | AQ18: =IF(A18="","",IFERROR(VLOOKUP(A18,A18:AC218,22,0)/VLOOKUP(A18,A18:AC218,21,0),"-")) -> - | AR18: =IF(A18="","",IFERROR(VLOOKUP(A18,A18:AC218,24,0)/VLOOKUP(A18,A18:AC218,23,0),"-")) -> - | AS18: =IF(A18="","",IFERROR(VLOOKUP(A18,A18:AC218,26,0)/VLOOKUP(A18,A18:AC218,25,0),"-")) -> - | AT18: =IF(A18="","",IFERROR(VLOOKUP(A18,A18:AC218,28,0)/VLOOKUP(A18,A18:AC218,27,0),"-")) -> -
A19: {=INDIRECT("D" & ROW())&INDIRECT("F" & ROW())} -> RTQ02Kingsholm | D19: =IFERROR(VLOOKUP($E$5&E19,Sites,4,FALSE),"") -> RTQ02 | E19: WOTTON LAWN HOSPITAL | F19: Kingsholm | G19: 710 - ADULT MENTAL ILLNESS | I19: 1395 | J19: 1280.2 | K19: 1395 | L19: 1716.25 | M19: 0 | N19: 0 | O19: 0 | P19: 0 | Q19: 620 | R19: 607.91667 | S19: 620 | T19: 836.03333 | U19: 0 | V19: 0 | W19: 0 | X19: 0 | Y19: 0 | Z19: 0 | AA19: 0 | AB19: 0 | AC19: 464 | AD19: =IF(A19="","",IFERROR((VLOOKUP(A19,A19:AC219,10,0)+VLOOKUP(A19,A19:AC219,18,0))/VLOOKUP(A19,A19:AC219,29,0),"-")) -> 4.069217 | AE19: =IF(A19="","",IFERROR((VLOOKUP(A19,A19:AC219,12,0)+VLOOKUP(A19,A19:AC219,20,0))/VLOOKUP(A19,A19:AC219,29,0),"-")) -> 5.5006106 | AF19: =IF(A19="","",IFERROR((VLOOKUP(A19,A19:AC219,14,0)+VLOOKUP(A19,A19:AC219,22,0))/VLOOKUP(A19,A19:AC219,29,0),"-")) -> 0 | AG19: =IF(A19="","",IFERROR((VLOOKUP(A19,A19:AC219,16,0)+VLOOKUP(A19,A19:AC219,24,0))/VLOOKUP(A19,A19:AC219,29,0),"-")) -> 0 | AH19: =IF(A19="","",IFERROR(VLOOKUP(A19,A19:AC219,26,0)/VLOOKUP(A19,A19:AC219,29,0),"-")) -> 0 | AI19: =IF(A19="","",IFERROR(VLOOKUP(A19,A19:AC219,28,0)/VLOOKUP(A19,A19:AC219,29,0),"-")) -> 0 | AJ19: =IF(A19="","",IFERROR((VLOOKUP(A19,A19:AC219,10,0)+VLOOKUP(A19,A19:AC219,12,0)+VLOOKUP(A19,A19:AC219,14,0)+VLOOKUP(A19,A19:AC219,16,0)+VLOOKUP(A19,A19:AC219,18,0)+VLOOKUP(A19,A19:AC219,20,0)+VLOOKUP(A19,A19:AC219,22,0)+VLOOKUP(A19,A19:AC219,24,0)+VLOOKUP(A19,A19:AC219,26,0)+VLOOKUP(A19,A19:AC219,28,0))/VLOOKUP(A19,A19:AC219,29,0),"-")) -> 9.5698276 | AK19: =IF(A19="","",IFERROR(VLOOKUP(A19,A19:AC219,10,0)/VLOOKUP(A19,A19:AC219,9,0),"-")) -> 0.91770609 | AL19: =IF(A19="","",IFERROR(VLOOKUP(A19,A19:AC219,12,0)/VLOOKUP(A19,A19:AC219,11,0),"-")) -> 1.2302867 | AM19: =IF(A19="","",IFERROR(VLOOKUP(A19,A19:AC219,14,0)/VLOOKUP(A19,A19:AC219,13,0),"-")) -> - | AN19: =IF(A19="","",IFERROR(VLOOKUP(A19,A19:AC219,16,0)/VLOOKUP(A19,A19:AC219,15,0),"-")) -> - | AO19: =IF(A19="","",IFERROR(VLOOKUP(A19,A19:AC219,18,0)/VLOOKUP(A19,A19:AC219,17,0),"-")) -> 0.98051075 | AP19: =IF(A19="","",IFERROR(VLOOKUP(A19,A19:AC219,20,0)/VLOOKUP(A19,A19:AC219,19,0),"-")) -> 1.3484409 | AQ19: =IF(A19="","",IFERROR(VLOOKUP(A19,A19:AC219,22,0)/VLOOKUP(A19,A19:AC219,21,0),"-")) -> - | AR19: =IF(A19="","",IFERROR(VLOOKUP(A19,A19:AC219,24,0)/VLOOKUP(A19,A19:AC219,23,0),"-")) -> - | AS19: =IF(A19="","",IFERROR(VLOOKUP(A19,A19:AC219,26,0)/VLOOKUP(A19,A19:AC219,25,0),"-")) -> - | AT19: =IF(A19="","",IFERROR(VLOOKUP(A19,A19:AC219,28,0)/VLOOKUP(A19,A19:AC219,27,0),"-")) -> -
A20: {=INDIRECT("D" & ROW())&INDIRECT("F" & ROW())} -> RTQ02Montpellier | D20: =IFERROR(VLOOKUP($E$5&E20,Sites,4,FALSE),"") -> RTQ02 | E20: WOTTON LAWN HOSPITAL | F20: Montpellier | G20: 710 - ADULT MENTAL ILLNESS | I20: 930 | J20: 893.25 | K20: 1395 | L20: 1338.6667 | M20: 0 | N20: 0 | O20: 0 | P20: 0 | Q20: 620 | R20: 618.66667 | S20: 620 | T20: 600.33333 | U20: 0 | V20: 0 | W20: 0 | X20: 0 | Y20: 0 | Z20: 0 | AA20: 0 | AB20: 0 | AC20: 294 | AD20: =IF(A20="","",IFERROR((VLOOKUP(A20,A20:AC220,10,0)+VLOOKUP(A20,A20:AC220,18,0))/VLOOKUP(A20,A20:AC220,29,0),"-")) -> 5.1425737 | AE20: =IF(A20="","",IFERROR((VLOOKUP(A20,A20:AC220,12,0)+VLOOKUP(A20,A20:AC220,20,0))/VLOOKUP(A20,A20:AC220,29,0),"-")) -> 6.5952381 | AF20: =IF(A20="","",IFERROR((VLOOKUP(A20,A20:AC220,14,0)+VLOOKUP(A20,A20:AC220,22,0))/VLOOKUP(A20,A20:AC220,29,0),"-")) -> 0 | AG20: =IF(A20="","",IFERROR((VLOOKUP(A20,A20:AC220,16,0)+VLOOKUP(A20,A20:AC220,24,0))/VLOOKUP(A20,A20:AC220,29,0),"-")) -> 0 | AH20: =IF(A20="","",IFERROR(VLOOKUP(A20,A20:AC220,26,0)/VLOOKUP(A20,A20:AC220,29,0),"-")) -> 0 | AI20: =IF(A20="","",IFERROR(VLOOKUP(A20,A20:AC220,28,0)/VLOOKUP(A20,A20:AC220,29,0),"-")) -> 0 | AJ20: =IF(A20="","",IFERROR((VLOOKUP(A20,A20:AC220,10,0)+VLOOKUP(A20,A20:AC220,12,0)+VLOOKUP(A20,A20:AC220,14,0)+VLOOKUP(A20,A20:AC220,16,0)+VLOOKUP(A20,A20:AC220,18,0)+VLOOKUP(A20,A20:AC220,20,0)+VLOOKUP(A20,A20:AC220,22,0)+VLOOKUP(A20,A20:AC220,24,0)+VLOOKUP(A20,A20:AC220,26,0)+VLOOKUP(A20,A20:AC220,28,0))/VLOOKUP(A20,A20:AC220,29,0),"-")) -> 11.737812 | AK20: =IF(A20="","",IFERROR(VLOOKUP(A20,A20:AC220,10,0)/VLOOKUP(A20,A20:AC220,9,0),"-")) -> 0.96048387 | AL20: =IF(A20="","",IFERROR(VLOOKUP(A20,A20:AC220,12,0)/VLOOKUP(A20,A20:AC220,11,0),"-")) -> 0.95961768 | AM20: =IF(A20="","",IFERROR(VLOOKUP(A20,A20:AC220,14,0)/VLOOKUP(A20,A20:AC220,13,0),"-")) -> - | AN20: =IF(A20="","",IFERROR(VLOOKUP(A20,A20:AC220,16,0)/VLOOKUP(A20,A20:AC220,15,0),"-")) -> - | AO20: =IF(A20="","",IFERROR(VLOOKUP(A20,A20:AC220,18,0)/VLOOKUP(A20,A20:AC220,17,0),"-")) -> 0.99784946 | AP20: =IF(A20="","",IFERROR(VLOOKUP(A20,A20:AC220,20,0)/VLOOKUP(A20,A20:AC220,19,0),"-")) -> 0.96827957 | AQ20: =IF(A20="","",IFERROR(VLOOKUP(A20,A20:AC220,22,0)/VLOOKUP(A20,A20:AC220,21,0),"-")) -> - | AR20: =IF(A20="","",IFERROR(VLOOKUP(A20,A20:AC220,24,0)/VLOOKUP(A20,A20:AC220,23,0),"-")) -> - | AS20: =IF(A20="","",IFERROR(VLOOKUP(A20,A20:AC220,26,0)/VLOOKUP(A20,A20:AC220,25,0),"-")) -> - | AT20: =IF(A20="","",IFERROR(VLOOKUP(A20,A20:AC220,28,0)/VLOOKUP(A20,A20:AC220,27,0),"-")) -> -
A21: {=INDIRECT("D" & ROW())&INDIRECT("F" & ROW())} -> RTQ02Priory | D21: =IFERROR(VLOOKUP($E$5&E21,Sites,4,FALSE),"") -> RTQ02 | E21: WOTTON LAWN HOSPITAL | F21: Priory | G21: 710 - ADULT MENTAL ILLNESS | I21: 1627.5 | J21: 1476.3167 | K21: 1395 | L21: 2154.3333 | M21: 0 | N21: 0 | O21: 0 | P21: 0 | Q21: 620 | R21: 616.95 | S21: 620 | T21: 853.01667 | U21: 0 | V21: 0 | W21: 0 | X21: 0 | Y21: 0 | Z21: 0 | AA21: 0 | AB21: 0 | AC21: 553 | AD21: =IF(A21="","",IFERROR((VLOOKUP(A21,A21:AC221,10,0)+VLOOKUP(A21,A21:AC221,18,0))/VLOOKUP(A21,A21:AC221,29,0),"-")) -> 3.7852923 | AE21: =IF(A21="","",IFERROR((VLOOKUP(A21,A21:AC221,12,0)+VLOOKUP(A21,A21:AC221,20,0))/VLOOKUP(A21,A21:AC221,29,0),"-")) -> 5.4382459 | AF21: =IF(A21="","",IFERROR((VLOOKUP(A21,A21:AC221,14,0)+VLOOKUP(A21,A21:AC221,22,0))/VLOOKUP(A21,A21:AC221,29,0),"-")) -> 0 | AG21: =IF(A21="","",IFERROR((VLOOKUP(A21,A21:AC221,16,0)+VLOOKUP(A21,A21:AC221,24,0))/VLOOKUP(A21,A21:AC221,29,0),"-")) -> 0 | AH21: =IF(A21="","",IFERROR(VLOOKUP(A21,A21:AC221,26,0)/VLOOKUP(A21,A21:AC221,29,0),"-")) -> 0 | AI21: =IF(A21="","",IFERROR(VLOOKUP(A21,A21:AC221,28,0)/VLOOKUP(A21,A21:AC221,29,0),"-")) -> 0 | AJ21: =IF(A21="","",IFERROR((VLOOKUP(A21,A21:AC221,10,0)+VLOOKUP(A21,A21:AC221,12,0)+VLOOKUP(A21,A21:AC221,14,0)+VLOOKUP(A21,A21:AC221,16,0)+VLOOKUP(A21,A21:AC221,18,0)+VLOOKUP(A21,A21:AC221,20,0)+VLOOKUP(A21,A21:AC221,22,0)+VLOOKUP(A21,A21:AC221,24,0)+VLOOKUP(A21,A21:AC221,26,0)+VLOOKUP(A21,A21:AC221,28,0))/VLOOKUP(A21,A21:AC221,29,0),"-")) -> 9.2235383 | AK21: =IF(A21="","",IFERROR(VLOOKUP(A21,A21:AC221,10,0)/VLOOKUP(A21,A21:AC221,9,0),"-")) -> 0.90710701 | AL21: =IF(A21="","",IFERROR(VLOOKUP(A21,A21:AC221,12,0)/VLOOKUP(A21,A21:AC221,11,0),"-")) -> 1.544325 | AM21: =IF(A21="","",IFERROR(VLOOKUP(A21,A21:AC221,14,0)/VLOOKUP(A21,A21:AC221,13,0),"-")) -> - | AN21: =IF(A21="","",IFERROR(VLOOKUP(A21,A21:AC221,16,0)/VLOOKUP(A21,A21:AC221,15,0),"-")) -> - | AO21: =IF(A21="","",IFERROR(VLOOKUP(A21,A21:AC221,18,0)/VLOOKUP(A21,A21:AC221,17,0),"-")) -> 0.99508065 | AP21: =IF(A21="","",IFERROR(VLOOKUP(A21,A21:AC221,20,0)/VLOOKUP(A21,A21:AC221,19,0),"-")) -> 1.3758333 | AQ21: =IF(A21="","",IFERROR(VLOOKUP(A21,A21:AC221,22,0)/VLOOKUP(A21,A21:AC221,21,0),"-")) -> - | AR21: =IF(A21="","",IFERROR(VLOOKUP(A21,A21:AC221,24,0)/VLOOKUP(A21,A21:AC221,23,0),"-")) -> - | AS21: =IF(A21="","",IFERROR(VLOOKUP(A21,A21:AC221,26,0)/VLOOKUP(A21,A21:AC221,25,0),"-")) -> - | AT21: =IF(A21="","",IFERROR(VLOOKUP(A21,A21:AC221,28,0)/VLOOKUP(A21,A21:AC221,27,0),"-")) -> -
A22: {=INDIRECT("D" & ROW())&INDIRECT("F" & ROW())} -> RTQ01Chestnut | D22: =IFERROR(VLOOKUP($E$5&E22,Sites,4,FALSE),"") -> RTQ01 | E22: CHARLTON LANE HOSPITAL | F22: Chestnut | G22: 715 - OLD AGE PSYCHIATRY | I22: 1162.5 | J22: 924.25 | K22: 1162.5 | L22: 1325.8333 | M22: 0 | N22: 0 | O22: 0 | P22: 7.5 | Q22: 310 | R22: 309.16667 | S22: 620 | T22: 608.66667 | U22: 0 | V22: 0 | W22: 0 | X22: 0 | Y22: 0 | Z22: 0 | AA22: 0 | AB22: 0 | AC22: 426 | AD22: =IF(A22="","",IFERROR((VLOOKUP(A22,A22:AC222,10,0)+VLOOKUP(A22,A22:AC222,18,0))/VLOOKUP(A22,A22:AC222,29,0),"-")) -> 2.8953443 | AE22: =IF(A22="","",IFERROR((VLOOKUP(A22,A22:AC222,12,0)+VLOOKUP(A22,A22:AC222,20,0))/VLOOKUP(A22,A22:AC222,29,0),"-")) -> 4.5410798 | AF22: =IF(A22="","",IFERROR((VLOOKUP(A22,A22:AC222,14,0)+VLOOKUP(A22,A22:AC222,22,0))/VLOOKUP(A22,A22:AC222,29,0),"-")) -> 0 | AG22: =IF(A22="","",IFERROR((VLOOKUP(A22,A22:AC222,16,0)+VLOOKUP(A22,A22:AC222,24,0))/VLOOKUP(A22,A22:AC222,29,0),"-")) -> 0.017605634 | AH22: =IF(A22="","",IFERROR(VLOOKUP(A22,A22:AC222,26,0)/VLOOKUP(A22,A22:AC222,29,0),"-")) -> 0 | AI22: =IF(A22="","",IFERROR(VLOOKUP(A22,A22:AC222,28,0)/VLOOKUP(A22,A22:AC222,29,0),"-")) -> 0 | AJ22: =IF(A22="","",IFERROR((VLOOKUP(A22,A22:AC222,10,0)+VLOOKUP(A22,A22:AC222,12,0)+VLOOKUP(A22,A22:AC222,14,0)+VLOOKUP(A22,A22:AC222,16,0)+VLOOKUP(A22,A22:AC222,18,0)+VLOOKUP(A22,A22:AC222,20,0)+VLOOKUP(A22,A22:AC222,22,0)+VLOOKUP(A22,A22:AC222,24,0)+VLOOKUP(A22,A22:AC222,26,0)+VLOOKUP(A22,A22:AC222,28,0))/VLOOKUP(A22,A22:AC222,29,0),"-")) -> 7.4540297 | AK22: =IF(A22="","",IFERROR(VLOOKUP(A22,A22:AC222,10,0)/VLOOKUP(A22,A22:AC222,9,0),"-")) -> 0.79505376 | AL22: =IF(A22="","",IFERROR(VLOOKUP(A22,A22:AC222,12,0)/VLOOKUP(A22,A22:AC222,11,0),"-")) -> 1.1405018 | AM22: =IF(A22="","",IFERROR(VLOOKUP(A22,A22:AC222,14,0)/VLOOKUP(A22,A22:AC222,13,0),"-")) -> - | AN22: =IF(A22="","",IFERROR(VLOOKUP(A22,A22:AC222,16,0)/VLOOKUP(A22,A22:AC222,15,0),"-")) -> - | AO22: =IF(A22="","",IFERROR(VLOOKUP(A22,A22:AC222,18,0)/VLOOKUP(A22,A22:AC222,17,0),"-")) -> 0.99731183 | AP22: =IF(A22="","",IFERROR(VLOOKUP(A22,A22:AC222,20,0)/VLOOKUP(A22,A22:AC222,19,0),"-")) -> 0.98172043 | AQ22: =IF(A22="","",IFERROR(VLOOKUP(A22,A22:AC222,22,0)/VLOOKUP(A22,A22:AC222,21,0),"-")) -> - | AR22: =IF(A22="","",IFERROR(VLOOKUP(A22,A22:AC222,24,0)/VLOOKUP(A22,A22:AC222,23,0),"-")) -> - | AS22: =IF(A22="","",IFERROR(VLOOKUP(A22,A22:AC222,26,0)/VLOOKUP(A22,A22:AC222,25,0),"-")) -> - | AT22: =IF(A22="","",IFERROR(VLOOKUP(A22,A22:AC222,28,0)/VLOOKUP(A22,A22:AC222,27,0),"-")) -> -
A23: {=INDIRECT("D" & ROW())&INDIRECT("F" & ROW())} -> RTQ01Mulberry | D23: =IFERROR(VLOOKUP($E$5&E23,Sites,4,FALSE),"") -> RTQ01 | E23: CHARLTON LANE HOSPITAL | F23: Mulberry | G23: 715 - OLD AGE PSYCHIATRY | I23: 1162.5 | J23: 1054.1667 | K23: 1627.5 | L23: 1558.25 | M23: 0 | N23: 0 | O23: 0 | P23: 0 | Q23: 620 | R23: 579.5 | S23: 620 | T23: 621.41667 | U23: 0 | V23: 0 | W23: 0 | X23: 0 | Y23: 0 | Z23: 0 | AA23: 0 | AB23: 0 | AC23: 544 | AD23: =IF(A23="","",IFERROR((VLOOKUP(A23,A23:AC223,10,0)+VLOOKUP(A23,A23:AC223,18,0))/VLOOKUP(A23,A23:AC223,29,0),"-")) -> 3.0030637 | AE23: =IF(A23="","",IFERROR((VLOOKUP(A23,A23:AC223,12,0)+VLOOKUP(A23,A23:AC223,20,0))/VLOOKUP(A23,A23:AC223,29,0),"-")) -> 4.0067402 | AF23: =IF(A23="","",IFERROR((VLOOKUP(A23,A23:AC223,14,0)+VLOOKUP(A23,A23:AC223,22,0))/VLOOKUP(A23,A23:AC223,29,0),"-")) -> 0 | AG23: =IF(A23="","",IFERROR((VLOOKUP(A23,A23:AC223,16,0)+VLOOKUP(A23,A23:AC223,24,0))/VLOOKUP(A23,A23:AC223,29,0),"-")) -> 0 | AH23: =IF(A23="","",IFERROR(VLOOKUP(A23,A23:AC223,26,0)/VLOOKUP(A23,A23:AC223,29,0),"-")) -> 0 | AI23: =IF(A23="","",IFERROR(VLOOKUP(A23,A23:AC223,28,0)/VLOOKUP(A23,A23:AC223,29,0),"-")) -> 0 | AJ23: =IF(A23="","",IFERROR((VLOOKUP(A23,A23:AC223,10,0)+VLOOKUP(A23,A23:AC223,12,0)+VLOOKUP(A23,A23:AC223,14,0)+VLOOKUP(A23,A23:AC223,16,0)+VLOOKUP(A23,A23:AC223,18,0)+VLOOKUP(A23,A23:AC223,20,0)+VLOOKUP(A23,A23:AC223,22,0)+VLOOKUP(A23,A23:AC223,24,0)+VLOOKUP(A23,A23:AC223,26,0)+VLOOKUP(A23,A23:AC223,28,0))/VLOOKUP(A23,A23:AC223,29,0),"-")) -> 7.0098039 | AK23: =IF(A23="","",IFERROR(VLOOKUP(A23,A23:AC223,10,0)/VLOOKUP(A23,A23:AC223,9,0),"-")) -> 0.90681004 | AL23: =IF(A23="","",IFERROR(VLOOKUP(A23,A23:AC223,12,0)/VLOOKUP(A23,A23:AC223,11,0),"-")) -> 0.95745008 | AM23: =IF(A23="","",IFERROR(VLOOKUP(A23,A23:AC223,14,0)/VLOOKUP(A23,A23:AC223,13,0),"-")) -> - | AN23: =IF(A23="","",IFERROR(VLOOKUP(A23,A23:AC223,16,0)/VLOOKUP(A23,A23:AC223,15,0),"-")) -> - | AO23: =IF(A23="","",IFERROR(VLOOKUP(A23,A23:AC223,18,0)/VLOOKUP(A23,A23:AC223,17,0),"-")) -> 0.93467742 | AP23: =IF(A23="","",IFERROR(VLOOKUP(A23,A23:AC223,20,0)/VLOOKUP(A23,A23:AC223,19,0),"-")) -> 1.0022849 | AQ23: =IF(A23="","",IFERROR(VLOOKUP(A23,A23:AC223,22,0)/VLOOKUP(A23,A23:AC223,21,0),"-")) -> - | AR23: =IF(A23="","",IFERROR(VLOOKUP(A23,A23:AC223,24,0)/VLOOKUP(A23,A23:AC223,23,0),"-")) -> - | AS23: =IF(A23="","",IFERROR(VLOOKUP(A23,A23:AC223,26,0)/VLOOKUP(A23,A23:AC223,25,0),"-")) -> - | AT23: =IF(A23="","",IFERROR(VLOOKUP(A23,A23:AC223,28,0)/VLOOKUP(A23,A23:AC223,27,0),"-")) -> -
A24: {=INDIRECT("D" & ROW())&INDIRECT("F" & ROW())} -> RTQ01Willow | D24: =IFERROR(VLOOKUP($E$5&E24,Sites,4,FALSE),"") -> RTQ01 | E24: CHARLTON LANE HOSPITAL | F24: Willow | G24: 710 - ADULT MENTAL ILLNESS | I24: 930 | J24: 913.16667 | K24: 2790 | L24: 2447.5 | M24: 0 | N24: 0 | O24: 0 | P24: 91 | Q24: 310 | R24: 310 | S24: 930 | T24: 925.26667 | U24: 0 | V24: 0 | W24: 0 | X24: 0 | Y24: 0 | Z24: 0 | AA24: 0 | AB24: 0 | AC24: 491 | AD24: =IF(A24="","",IFERROR((VLOOKUP(A24,A24:AC224,10,0)+VLOOKUP(A24,A24:AC224,18,0))/VLOOKUP(A24,A24:AC224,29,0),"-")) -> 2.4911745 | AE24: =IF(A24="","",IFERROR((VLOOKUP(A24,A24:AC224,12,0)+VLOOKUP(A24,A24:AC224,20,0))/VLOOKUP(A24,A24:AC224,29,0),"-")) -> 6.8691785 | AF24: =IF(A24="","",IFERROR((VLOOKUP(A24,A24:AC224,14,0)+VLOOKUP(A24,A24:AC224,22,0))/VLOOKUP(A24,A24:AC224,29,0),"-")) -> 0 | AG24: =IF(A24="","",IFERROR((VLOOKUP(A24,A24:AC224,16,0)+VLOOKUP(A24,A24:AC224,24,0))/VLOOKUP(A24,A24:AC224,29,0),"-")) -> 0.18533605 | AH24: =IF(A24="","",IFERROR(VLOOKUP(A24,A24:AC224,26,0)/VLOOKUP(A24,A24:AC224,29,0),"-")) -> 0 | AI24: =IF(A24="","",IFERROR(VLOOKUP(A24,A24:AC224,28,0)/VLOOKUP(A24,A24:AC224,29,0),"-")) -> 0 | AJ24: =IF(A24="","",IFERROR((VLOOKUP(A24,A24:AC224,10,0)+VLOOKUP(A24,A24:AC224,12,0)+VLOOKUP(A24,A24:AC224,14,0)+VLOOKUP(A24,A24:AC224,16,0)+VLOOKUP(A24,A24:AC224,18,0)+VLOOKUP(A24,A24:AC224,20,0)+VLOOKUP(A24,A24:AC224,22,0)+VLOOKUP(A24,A24:AC224,24,0)+VLOOKUP(A24,A24:AC224,26,0)+VLOOKUP(A24,A24:AC224,28,0))/VLOOKUP(A24,A24:AC224,29,0),"-")) -> 9.5456891 | AK24: =IF(A24="","",IFERROR(VLOOKUP(A24,A24:AC224,10,0)/VLOOKUP(A24,A24:AC224,9,0),"-")) -> 0.98189964 | AL24: =IF(A24="","",IFERROR(VLOOKUP(A24,A24:AC224,12,0)/VLOOKUP(A24,A24:AC224,11,0),"-")) -> 0.87724014 | AM24: =IF(A24="","",IFERROR(VLOOKUP(A24,A24:AC224,14,0)/VLOOKUP(A24,A24:AC224,13,0),"-")) -> - | AN24: =IF(A24="","",IFERROR(VLOOKUP(A24,A24:AC224,16,0)/VLOOKUP(A24,A24:AC224,15,0),"-")) -> - | AO24: =IF(A24="","",IFERROR(VLOOKUP(A24,A24:AC224,18,0)/VLOOKUP(A24,A24:AC224,17,0),"-")) -> 1 | AP24: =IF(A24="","",IFERROR(VLOOKUP(A24,A24:AC224,20,0)/VLOOKUP(A24,A24:AC224,19,0),"-")) -> 0.99491039 | AQ24: =IF(A24="","",IFERROR(VLOOKUP(A24,A24:AC224,22,0)/VLOOKUP(A24,A24:AC224,21,0),"-")) -> - | AR24: =IF(A24="","",IFERROR(VLOOKUP(A24,A24:AC224,24,0)/VLOOKUP(A24,A24:AC224,23,0),"-")) -> - | AS24: =IF(A24="","",IFERROR(VLOOKUP(A24,A24:AC224,26,0)/VLOOKUP(A24,A24:AC224,25,0),"-")) -> - | AT24: =IF(A24="","",IFERROR(VLOOKUP(A24,A24:AC224,28,0)/VLOOKUP(A24,A24:AC224,27,0),"-")) -> -
A25: {=INDIRECT("D" & ROW())&INDIRECT("F" & ROW())} -> RTQG1Laurel House | D25: =IFERROR(VLOOKUP($E$5&E25,Sites,4,FALSE),"") -> RTQG1 | E25: LAUREL HOUSE | F25: Laurel House | G25: 710 - ADULT MENTAL ILLNESS | I25: 697.5 | J25: 612.66667 | K25: 697.5 | L25: 727.66667 | M25: 0 | N25: 0 | O25: 0 | P25: 0 | Q25: 620 | R25: 620 | S25: 310 | T25: 310 | U25: 0 | V25: 0 | W25: 0 | X25: 0 | Y25: 0 | Z25: 0 | AA25: 0 | AB25: 0 | AC25: 384 | AD25: =IF(A25="","",IFERROR((VLOOKUP(A25,A25:AC225,10,0)+VLOOKUP(A25,A25:AC225,18,0))/VLOOKUP(A25,A25:AC225,29,0),"-")) -> 3.2100694 | AE25: =IF(A25="","",IFERROR((VLOOKUP(A25,A25:AC225,12,0)+VLOOKUP(A25,A25:AC225,20,0))/VLOOKUP(A25,A25:AC225,29,0),"-")) -> 2.7022569 | AF25: =IF(A25="","",IFERROR((VLOOKUP(A25,A25:AC225,14,0)+VLOOKUP(A25,A25:AC225,22,0))/VLOOKUP(A25,A25:AC225,29,0),"-")) -> 0 | AG25: =IF(A25="","",IFERROR((VLOOKUP(A25,A25:AC225,16,0)+VLOOKUP(A25,A25:AC225,24,0))/VLOOKUP(A25,A25:AC225,29,0),"-")) -> 0 | AH25: =IF(A25="","",IFERROR(VLOOKUP(A25,A25:AC225,26,0)/VLOOKUP(A25,A25:AC225,29,0),"-")) -> 0 | AI25: =IF(A25="","",IFERROR(VLOOKUP(A25,A25:AC225,28,0)/VLOOKUP(A25,A25:AC225,29,0),"-")) -> 0 | AJ25: =IF(A25="","",IFERROR((VLOOKUP(A25,A25:AC225,10,0)+VLOOKUP(A25,A25:AC225,12,0)+VLOOKUP(A25,A25:AC225,14,0)+VLOOKUP(A25,A25:AC225,16,0)+VLOOKUP(A25,A25:AC225,18,0)+VLOOKUP(A25,A25:AC225,20,0)+VLOOKUP(A25,A25:AC225,22,0)+VLOOKUP(A25,A25:AC225,24,0)+VLOOKUP(A25,A25:AC225,26,0)+VLOOKUP(A25,A25:AC225,28,0))/VLOOKUP(A25,A25:AC225,29,0),"-")) -> 5.9123264 | AK25: =IF(A25="","",IFERROR(VLOOKUP(A25,A25:AC225,10,0)/VLOOKUP(A25,A25:AC225,9,0),"-")) -> 0.87837515 | AL25: =IF(A25="","",IFERROR(VLOOKUP(A25,A25:AC225,12,0)/VLOOKUP(A25,A25:AC225,11,0),"-")) -> 1.0432497 | AM25: =IF(A25="","",IFERROR(VLOOKUP(A25,A25:AC225,14,0)/VLOOKUP(A25,A25:AC225,13,0),"-")) -> - | AN25: =IF(A25="","",IFERROR(VLOOKUP(A25,A25:AC225,16,0)/VLOOKUP(A25,A25:AC225,15,0),"-")) -> - | AO25: =IF(A25="","",IFERROR(VLOOKUP(A25,A25:AC225,18,0)/VLOOKUP(A25,A25:AC225,17,0),"-")) -> 1 | AP25: =IF(A25="","",IFERROR(VLOOKUP(A25,A25:AC225,20,0)/VLOOKUP(A25,A25:AC225,19,0),"-")) -> 1 | AQ25: =IF(A25="","",IFERROR(VLOOKUP(A25,A25:AC225,22,0)/VLOOKUP(A25,A25:AC225,21,0),"-")) -> - | AR25: =IF(A25="","",IFERROR(VLOOKUP(A25,A25:AC225,24,0)/VLOOKUP(A25,A25:AC225,23,0),"-")) -> - | AS25: =IF(A25="","",IFERROR(VLOOKUP(A25,A25:AC225,26,0)/VLOOKUP(A25,A25:AC225,25,0),"-")) -> - | AT25: =IF(A25="","",IFERROR(VLOOKUP(A25,A25:AC225,28,0)/VLOOKUP(A25,A25:AC225,27,0),"-")) -> -
A26: {=INDIRECT("D" & ROW())&INDIRECT("F" & ROW())} -> RTQ13Honeybourne | D26: =IFERROR(VLOOKUP($E$5&E26,Sites,4,FALSE),"") -> RTQ13 | E26: HONEYBOURNE | F26: Honeybourne | G26: 710 - ADULT MENTAL ILLNESS | I26: 697.5 | J26: 632.25 | K26: 697.5 | L26: 787.66667 | M26: 0 | N26: 0 | O26: 0 | P26: 0 | Q26: 310 | R26: 320 | S26: 310 | T26: 350 | U26: 0 | V26: 0 | W26: 0 | X26: 0 | Y26: 0 | Z26: 0 | AA26: 0 | AB26: 0 | AC26: 259 | AD26: =IF(A26="","",IFERROR((VLOOKUP(A26,A26:AC226,10,0)+VLOOKUP(A26,A26:AC226,18,0))/VLOOKUP(A26,A26:AC226,29,0),"-")) -> 3.6766409 | AE26: =IF(A26="","",IFERROR((VLOOKUP(A26,A26:AC226,12,0)+VLOOKUP(A26,A26:AC226,20,0))/VLOOKUP(A26,A26:AC226,29,0),"-")) -> 4.3925354 | AF26: =IF(A26="","",IFERROR((VLOOKUP(A26,A26:AC226,14,0)+VLOOKUP(A26,A26:AC226,22,0))/VLOOKUP(A26,A26:AC226,29,0),"-")) -> 0 | AG26: =IF(A26="","",IFERROR((VLOOKUP(A26,A26:AC226,16,0)+VLOOKUP(A26,A26:AC226,24,0))/VLOOKUP(A26,A26:AC226,29,0),"-")) -> 0 | AH26: =IF(A26="","",IFERROR(VLOOKUP(A26,A26:AC226,26,0)/VLOOKUP(A26,A26:AC226,29,0),"-")) -> 0 | AI26: =IF(A26="","",IFERROR(VLOOKUP(A26,A26:AC226,28,0)/VLOOKUP(A26,A26:AC226,29,0),"-")) -> 0 | AJ26: =IF(A26="","",IFERROR((VLOOKUP(A26,A26:AC226,10,0)+VLOOKUP(A26,A26:AC226,12,0)+VLOOKUP(A26,A26:AC226,14,0)+VLOOKUP(A26,A26:AC226,16,0)+VLOOKUP(A26,A26:AC226,18,0)+VLOOKUP(A26,A26:AC226,20,0)+VLOOKUP(A26,A26:AC226,22,0)+VLOOKUP(A26,A26:AC226,24,0)+VLOOKUP(A26,A26:AC226,26,0)+VLOOKUP(A26,A26:AC226,28,0))/VLOOKUP(A26,A26:AC226,29,0),"-")) -> 8.0691763 | AK26: =IF(A26="","",IFERROR(VLOOKUP(A26,A26:AC226,10,0)/VLOOKUP(A26,A26:AC226,9,0),"-")) -> 0.90645161 | AL26: =IF(A26="","",IFERROR(VLOOKUP(A26,A26:AC226,12,0)/VLOOKUP(A26,A26:AC226,11,0),"-")) -> 1.1292712 | AM26: =IF(A26="","",IFERROR(VLOOKUP(A26,A26:AC226,14,0)/VLOOKUP(A26,A26:AC226,13,0),"-")) -> - | AN26: =IF(A26="","",IFERROR(VLOOKUP(A26,A26:AC226,16,0)/VLOOKUP(A26,A26:AC226,15,0),"-")) -> - | AO26: =IF(A26="","",IFERROR(VLOOKUP(A26,A26:AC226,18,0)/VLOOKUP(A26,A26:AC226,17,0),"-")) -> 1.0322581 | AP26: =IF(A26="","",IFERROR(VLOOKUP(A26,A26:AC226,20,0)/VLOOKUP(A26,A26:AC226,19,0),"-")) -> 1.1290323 | AQ26: =IF(A26="","",IFERROR(VLOOKUP(A26,A26:AC226,22,0)/VLOOKUP(A26,A26:AC226,21,0),"-")) -> - | AR26: =IF(A26="","",IFERROR(VLOOKUP(A26,A26:AC226,24,0)/VLOOKUP(A26,A26:AC226,23,0),"-")) -> - | AS26: =IF(A26="","",IFERROR(VLOOKUP(A26,A26:AC226,26,0)/VLOOKUP(A26,A26:AC226,25,0),"-")) -> - | AT26: =IF(A26="","",IFERROR(VLOOKUP(A26,A26:AC226,28,0)/VLOOKUP(A26,A26:AC226,27,0),"-")) -> -
A27: {=INDIRECT("D" & ROW())&INDIRECT("F" & ROW())} -> RTQ54Berkeley House | D27: =IFERROR(VLOOKUP($E$5&E27,Sites,4,FALSE),"") -> RTQ54 | E27: BERKELEY HOUSE | F27: Berkeley House | G27: 700 - LEARNING DISABILITY | I27: 901.66667 | J27: 438 | K27: 1787 | L27: 1686.8333 | M27: 0 | N27: 86.666667 | O27: 0 | P27: 0 | Q27: 310 | R27: 315.75 | S27: 1240 | T27: 840 | U27: 0 | V27: 0 | W27: 0 | X27: 0 | Y27: 0 | Z27: 0 | AA27: 0 | AB27: 0 | AC27: 31 | AD27: =IF(A27="","",IFERROR((VLOOKUP(A27,A27:AC227,10,0)+VLOOKUP(A27,A27:AC227,18,0))/VLOOKUP(A27,A27:AC227,29,0),"-")) -> 24.314516 | AE27: =IF(A27="","",IFERROR((VLOOKUP(A27,A27:AC227,12,0)+VLOOKUP(A27,A27:AC227,20,0))/VLOOKUP(A27,A27:AC227,29,0),"-")) -> 81.510753 | AF27: =IF(A27="","",IFERROR((VLOOKUP(A27,A27:AC227,14,0)+VLOOKUP(A27,A27:AC227,22,0))/VLOOKUP(A27,A27:AC227,29,0),"-")) -> 2.7956989 | AG27: =IF(A27="","",IFERROR((VLOOKUP(A27,A27:AC227,16,0)+VLOOKUP(A27,A27:AC227,24,0))/VLOOKUP(A27,A27:AC227,29,0),"-")) -> 0 | AH27: =IF(A27="","",IFERROR(VLOOKUP(A27,A27:AC227,26,0)/VLOOKUP(A27,A27:AC227,29,0),"-")) -> 0 | AI27: =IF(A27="","",IFERROR(VLOOKUP(A27,A27:AC227,28,0)/VLOOKUP(A27,A27:AC227,29,0),"-")) -> 0 | AJ27: =IF(A27="","",IFERROR((VLOOKUP(A27,A27:AC227,10,0)+VLOOKUP(A27,A27:AC227,12,0)+VLOOKUP(A27,A27:AC227,14,0)+VLOOKUP(A27,A27:AC227,16,0)+VLOOKUP(A27,A27:AC227,18,0)+VLOOKUP(A27,A27:AC227,20,0)+VLOOKUP(A27,A27:AC227,22,0)+VLOOKUP(A27,A27:AC227,24,0)+VLOOKUP(A27,A27:AC227,26,0)+VLOOKUP(A27,A27:AC227,28,0))/VLOOKUP(A27,A27:AC227,29,0),"-")) -> 108.62097 | AK27: =IF(A27="","",IFERROR(VLOOKUP(A27,A27:AC227,10,0)/VLOOKUP(A27,A27:AC227,9,0),"-")) -> 0.4857671 | AL27: =IF(A27="","",IFERROR(VLOOKUP(A27,A27:AC227,12,0)/VLOOKUP(A27,A27:AC227,11,0),"-")) -> 0.94394702 | AM27: =IF(A27="","",IFERROR(VLOOKUP(A27,A27:AC227,14,0)/VLOOKUP(A27,A27:AC227,13,0),"-")) -> - | AN27: =IF(A27="","",IFERROR(VLOOKUP(A27,A27:AC227,16,0)/VLOOKUP(A27,A27:AC227,15,0),"-")) -> - | AO27: =IF(A27="","",IFERROR(VLOOKUP(A27,A27:AC227,18,0)/VLOOKUP(A27,A27:AC227,17,0),"-")) -> 1.0185484 | AP27: =IF(A27="","",IFERROR(VLOOKUP(A27,A27:AC227,20,0)/VLOOKUP(A27,A27:AC227,19,0),"-")) -> 0.67741935 | AQ27: =IF(A27="","",IFERROR(VLOOKUP(A27,A27:AC227,22,0)/VLOOKUP(A27,A27:AC227,21,0),"-")) -> - | AR27: =IF(A27="","",IFERROR(VLOOKUP(A27,A27:AC227,24,0)/VLOOKUP(A27,A27:AC227,23,0),"-")) -> - | AS27: =IF(A27="","",IFERROR(VLOOKUP(A27,A27:AC227,26,0)/VLOOKUP(A27,A27:AC227,25,0),"-")) -> - | AT27: =IF(A27="","",IFERROR(VLOOKUP(A27,A27:AC227,28,0)/VLOOKUP(A27,A27:AC227,27,0),"-")) -> -
... A36: {=INDIRECT("D" & ROW())&INDIRECT("F" & ROW())} -> RTQ42Peakview | D36: =IFERROR(VLOOKUP($E$5&E36,Sites,4,FALSE),"") -> RTQ42 | E36: VALE COMMUNITY HOSPITAL | F36: Peakview | G36: 300 - GENERAL MEDICINE | I36: 1145 | J36: 1177.25 | K36: 2248.5 | L36: 2115 | M36: 0 | N36: 0 | O36: 0 | P36: 0 | Q36: 930 | R36: 892.5 | S36: 620 | T36: 660.25 | U36: 0 | V36: 0 | W36: 0 | X36: 0 | Y36: 1245 | Z36: 807.5 | AA36: 810 | AB36: 630 | AC36: 615 | AD36: =IF(A36="","",IFERROR((VLOOKUP(A36,A36:AC236,10,0)+VLOOKUP(A36,A36:AC236,18,0))/VLOOKUP(A36,A36:AC236,29,0),"-")) -> 3.3654472 | AE36: =IF(A36="","",IFERROR((VLOOKUP(A36,A36:AC236,12,0)+VLOOKUP(A36,A36:AC236,20,0))/VLOOKUP(A36,A36:AC236,29,0),"-")) -> 4.5126016 | AF36: =IF(A36="","",IFERROR((VLOOKUP(A36,A36:AC236,14,0)+VLOOKUP(A36,A36:AC236,22,0))/VLOOKUP(A36,A36:AC236,29,0),"-")) -> 0 | AG36: =IF(A36="","",IFERROR((VLOOKUP(A36,A36:AC236,16,0)+VLOOKUP(A36,A36:AC236,24,0))/VLOOKUP(A36,A36:AC236,29,0),"-")) -> 0 | AH36: =IF(A36="","",IFERROR(VLOOKUP(A36,A36:AC236,26,0)/VLOOKUP(A36,A36:AC236,29,0),"-")) -> 1.3130081 | AI36: =IF(A36="","",IFERROR(VLOOKUP(A36,A36:AC236,28,0)/VLOOKUP(A36,A36:AC236,29,0),"-")) -> 1.0243902 | AJ36: =IF(A36="","",IFERROR((VLOOKUP(A36,A36:AC236,10,0)+VLOOKUP(A36,A36:AC236,12,0)+VLOOKUP(A36,A36:AC236,14,0)+VLOOKUP(A36,A36:AC236,16,0)+VLOOKUP(A36,A36:AC236,18,0)+VLOOKUP(A36,A36:AC236,20,0)+VLOOKUP(A36,A36:AC236,22,0)+VLOOKUP(A36,A36:AC236,24,0)+VLOOKUP(A36,A36:AC236,26,0)+VLOOKUP(A36,A36:AC236,28,0))/VLOOKUP(A36,A36:AC236,29,0),"-")) -> 10.215447 | AK36: =IF(A36="","",IFERROR(VLOOKUP(A36,A36:AC236,10,0)/VLOOKUP(A36,A36:AC236,9,0),"-")) -> 1.0281659 | AL36: =IF(A36="","",IFERROR(VLOOKUP(A36,A36:AC236,12,0)/VLOOKUP(A36,A36:AC236,11,0),"-")) -> 0.94062708 | AM36: =IF(A36="","",IFERROR(VLOOKUP(A36,A36:AC236,14,0)/VLOOKUP(A36,A36:AC236,13,0),"-")) -> - | AN36: =IF(A36="","",IFERROR(VLOOKUP(A36,A36:AC236,16,0)/VLOOKUP(A36,A36:AC236,15,0),"-")) -> - | AO36: =IF(A36="","",IFERROR(VLOOKUP(A36,A36:AC236,18,0)/VLOOKUP(A36,A36:AC236,17,0),"-")) -> 0.95967742 | AP36: =IF(A36="","",IFERROR(VLOOKUP(A36,A36:AC236,20,0)/VLOOKUP(A36,A36:AC236,19,0),"-")) -> 1.0649194 | AQ36: =IF(A36="","",IFERROR(VLOOKUP(A36,A36:AC236,22,0)/VLOOKUP(A36,A36:AC236,21,0),"-")) -> - | AR36: =IF(A36="","",IFERROR(VLOOKUP(A36,A36:AC236,24,0)/VLOOKUP(A36,A36:AC236,23,0),"-")) -> - | AS36: =IF(A36="","",IFERROR(VLOOKUP(A36,A36:AC236,26,0)/VLOOKUP(A36,A36:AC236,25,0),"-")) -> 0.64859438 | AT36: =IF(A36="","",IFERROR(VLOOKUP(A36,A36:AC236,28,0)/VLOOKUP(A36,A36:AC236,27,0),"-")) -> 0.77777778
A37: {=INDIRECT("D" & ROW())&INDIRECT("F" & ROW())} | D37: =IFERROR(VLOOKUP($E$5&E37,Sites,4,FALSE),"") | AD37: =IF(A37="","",IFERROR((VLOOKUP(A37,A37:AC237,10,0)+VLOOKUP(A37,A37:AC237,18,0))/VLOOKUP(A37,A37:AC237,29,0),"-")) | AE37: =IF(A37="","",IFERROR((VLOOKUP(A37,A37:AC237,12,0)+VLOOKUP(A37,A37:AC237,20,0))/VLOOKUP(A37,A37:AC237,29,0),"-")) | AF37: =IF(A37="","",IFERROR((VLOOKUP(A37,A37:AC237,14,0)+VLOOKUP(A37,A37:AC237,22,0))/VLOOKUP(A37,A37:AC237,29,0),"-")) | AG37: =IF(A37="","",IFERROR((VLOOKUP(A37,A37:AC237,16,0)+VLOOKUP(A37,A37:AC237,24,0))/VLOOKUP(A37,A37:AC237,29,0),"-")) | AH37: =IF(A37="","",IFERROR(VLOOKUP(A37,A37:AC237,26,0)/VLOOKUP(A37,A37:AC237,29,0),"-")) | AI37: =IF(A37="","",IFERROR(VLOOKUP(A37,A37:AC237,28,0)/VLOOKUP(A37,A37:AC237,29,0),"-")) | AJ37: =IF(A37="","",IFERROR((VLOOKUP(A37,A37:AC237,10,0)+VLOOKUP(A37,A37:AC237,12,0)+VLOOKUP(A37,A37:AC237,14,0)+VLOOKUP(A37,A37:AC237,16,0)+VLOOKUP(A37,A37:AC237,18,0)+VLOOKUP(A37,A37:AC237,20,0)+VLOOKUP(A37,A37:AC237,22,0)+VLOOKUP(A37,A37:AC237,24,0)+VLOOKUP(A37,A37:AC237,26,0)+VLOOKUP(A37,A37:AC237,28,0))/VLOOKUP(A37,A37:AC237,29,0),"-")) | AK37: =IF(A37="","",IFERROR(VLOOKUP(A37,A37:AC237,10,0)/VLOOKUP(A37,A37:AC237,9,0),"-")) | AL37: =IF(A37="","",IFERROR(VLOOKUP(A37,A37:AC237,12,0)/VLOOKUP(A37,A37:AC237,11,0),"-")) | AM37: =IF(A37="","",IFERROR(VLOOKUP(A37,A37:AC237,14,0)/VLOOKUP(A37,A37:AC237,13,0),"-")) | AN37: =IF(A37="","",IFERROR(VLOOKUP(A37,A37:AC237,16,0)/VLOOKUP(A37,A37:AC237,15,0),"-")) | AO37: =IF(A37="","",IFERROR(VLOOKUP(A37,A37:AC237,18,0)/VLOOKUP(A37,A37:AC237,17,0),"-")) | AP37: =IF(A37="","",IFERROR(VLOOKUP(A37,A37:AC237,20,0)/VLOOKUP(A37,A37:AC237,19,0),"-")) | AQ37: =IF(A37="","",IFERROR(VLOOKUP(A37,A37:AC237,22,0)/VLOOKUP(A37,A37:AC237,21,0),"-")) | AR37: =IF(A37="","",IFERROR(VLOOKUP(A37,A37:AC237,24,0)/VLOOKUP(A37,A37:AC237,23,0),"-")) | AS37: =IF(A37="","",IFERROR(VLOOKUP(A37,A37:AC237,26,0)/VLOOKUP(A37,A37:AC237,25,0),"-")) | AT37: =IF(A37="","",IFERROR(VLOOKUP(A37,A37:AC237,28,0)/VLOOKUP(A37,A37:AC237,27,0),"-"))
A38: {=INDIRECT("D" & ROW())&INDIRECT("F" & ROW())} | D38: =IFERROR(VLOOKUP($E$5&E38,Sites,4,FALSE),"") | AD38: =IF(A38="","",IFERROR((VLOOKUP(A38,A38:AC238,10,0)+VLOOKUP(A38,A38:AC238,18,0))/VLOOKUP(A38,A38:AC238,29,0),"-")) | AE38: =IF(A38="","",IFERROR((VLOOKUP(A38,A38:AC238,12,0)+VLOOKUP(A38,A38:AC238,20,0))/VLOOKUP(A38,A38:AC238,29,0),"-")) | AF38: =IF(A38="","",IFERROR((VLOOKUP(A38,A38:AC238,14,0)+VLOOKUP(A38,A38:AC238,22,0))/VLOOKUP(A38,A38:AC238,29,0),"-")) | AG38: =IF(A38="","",IFERROR((VLOOKUP(A38,A38:AC238,16,0)+VLOOKUP(A38,A38:AC238,24,0))/VLOOKUP(A38,A38:AC238,29,0),"-")) | AH38: =IF(A38="","",IFERROR(VLOOKUP(A38,A38:AC238,26,0)/VLOOKUP(A38,A38:AC238,29,0),"-")) | AI38: =IF(A38="","",IFERROR(VLOOKUP(A38,A38:AC238,28,0)/VLOOKUP(A38,A38:AC238,29,0),"-")) | AJ38: =IF(A38="","",IFERROR((VLOOKUP(A38,A38:AC238,10,0)+VLOOKUP(A38,A38:AC238,12,0)+VLOOKUP(A38,A38:AC238,14,0)+VLOOKUP(A38,A38:AC238,16,0)+VLOOKUP(A38,A38:AC238,18,0)+VLOOKUP(A38,A38:AC238,20,0)+VLOOKUP(A38,A38:AC238,22,0)+VLOOKUP(A38,A38:AC238,24,0)+VLOOKUP(A38,A38:AC238,26,0)+VLOOKUP(A38,A38:AC238,28,0))/VLOOKUP(A38,A38:AC238,29,0),"-")) | AK38: =IF(A38="","",IFERROR(VLOOKUP(A38,A38:AC238,10,0)/VLOOKUP(A38,A38:AC238,9,0),"-")) | AL38: =IF(A38="","",IFERROR(VLOOKUP(A38,A38:AC238,12,0)/VLOOKUP(A38,A38:AC238,11,0),"-")) | AM38: =IF(A38="","",IFERROR(VLOOKUP(A38,A38:AC238,14,0)/VLOOKUP(A38,A38:AC238,13,0),"-")) | AN38: =IF(A38="","",IFERROR(VLOOKUP(A38,A38:AC238,16,0)/VLOOKUP(A38,A38:AC238,15,0),"-")) | AO38: =IF(A38="","",IFERROR(VLOOKUP(A38,A38:AC238,18,0)/VLOOKUP(A38,A38:AC238,17,0),"-")) | AP38: =IF(A38="","",IFERROR(VLOOKUP(A38,A38:AC238,20,0)/VLOOKUP(A38,A38:AC238,19,0),"-")) | AQ38: =IF(A38="","",IFERROR(VLOOKUP(A38,A38:AC238,22,0)/VLOOKUP(A38,A38:AC238,21,0),"-")) | AR38: =IF(A38="","",IFERROR(VLOOKUP(A38,A38:AC238,24,0)/VLOOKUP(A38,A38:AC238,23,0),"-")) | AS38: =IF(A38="","",IFERROR(VLOOKUP(A38,A38:AC238,26,0)/VLOOKUP(A38,A38:AC238,25,0),"-")) | AT38: =IF(A38="","",IFERROR(VLOOKUP(A38,A38:AC238,28,0)/VLOOKUP(A38,A38:AC238,27,0),"-"))
A39: {=INDIRECT("D" & ROW())&INDIRECT("F" & ROW())} | D39: =IFERROR(VLOOKUP($E$5&E39,Sites,4,FALSE),"") | AD39: =IF(A39="","",IFERROR((VLOOKUP(A39,A39:AC239,10,0)+VLOOKUP(A39,A39:AC239,18,0))/VLOOKUP(A39,A39:AC239,29,0),"-")) | AE39: =IF(A39="","",IFERROR((VLOOKUP(A39,A39:AC239,12,0)+VLOOKUP(A39,A39:AC239,20,0))/VLOOKUP(A39,A39:AC239,29,0),"-")) | AF39: =IF(A39="","",IFERROR((VLOOKUP(A39,A39:AC239,14,0)+VLOOKUP(A39,A39:AC239,22,0))/VLOOKUP(A39,A39:AC239,29,0),"-")) | AG39: =IF(A39="","",IFERROR((VLOOKUP(A39,A39:AC239,16,0)+VLOOKUP(A39,A39:AC239,24,0))/VLOOKUP(A39,A39:AC239,29,0),"-")) | AH39: =IF(A39="","",IFERROR(VLOOKUP(A39,A39:AC239,26,0)/VLOOKUP(A39,A39:AC239,29,0),"-")) | AI39: =IF(A39="","",IFERROR(VLOOKUP(A39,A39:AC239,28,0)/VLOOKUP(A39,A39:AC239,29,0),"-")) | AJ39: =IF(A39="","",IFERROR((VLOOKUP(A39,A39:AC239,10,0)+VLOOKUP(A39,A39:AC239,12,0)+VLOOKUP(A39,A39:AC239,14,0)+VLOOKUP(A39,A39:AC239,16,0)+VLOOKUP(A39,A39:AC239,18,0)+VLOOKUP(A39,A39:AC239,20,0)+VLOOKUP(A39,A39:AC239,22,0)+VLOOKUP(A39,A39:AC239,24,0)+VLOOKUP(A39,A39:AC239,26,0)+VLOOKUP(A39,A39:AC239,28,0))/VLOOKUP(A39,A39:AC239,29,0),"-")) | AK39: =IF(A39="","",IFERROR(VLOOKUP(A39,A39:AC239,10,0)/VLOOKUP(A39,A39:AC239,9,0),"-")) | AL39: =IF(A39="","",IFERROR(VLOOKUP(A39,A39:AC239,12,0)/VLOOKUP(A39,A39:AC239,11,0),"-")) | AM39: =IF(A39="","",IFERROR(VLOOKUP(A39,A39:AC239,14,0)/VLOOKUP(A39,A39:AC239,13,0),"-")) | AN39: =IF(A39="","",IFERROR(VLOOKUP(A39,A39:AC239,16,0)/VLOOKUP(A39,A39:AC239,15,0),"-")) | AO39: =IF(A39="","",IFERROR(VLOOKUP(A39,A39:AC239,18,0)/VLOOKUP(A39,A39:AC239,17,0),"-")) | AP39: =IF(A39="","",IFERROR(VLOOKUP(A39,A39:AC239,20,0)/VLOOKUP(A39,A39:AC239,19,0),"-")) | AQ39: =IF(A39="","",IFERROR(VLOOKUP(A39,A39:AC239,22,0)/VLOOKUP(A39,A39:AC239,21,0),"-")) | AR39: =IF(A39="","",IFERROR(VLOOKUP(A39,A39:AC239,24,0)/VLOOKUP(A39,A39:AC239,23,0),"-")) | AS39: =IF(A39="","",IFERROR(VLOOKUP(A39,A39:AC239,26,0)/VLOOKUP(A39,A39:AC239,25,0),"-")) | AT39: =IF(A39="","",IFERROR(VLOOKUP(A39,A39:AC239,28,0)/VLOOKUP(A39,A39:AC239,27,0),"-"))
A40: {=INDIRECT("D" & ROW())&INDIRECT("F" & ROW())} | D40: =IFERROR(VLOOKUP($E$5&E40,Sites,4,FALSE),"") | AD40: =IF(A40="","",IFERROR((VLOOKUP(A40,A40:AC240,10,0)+VLOOKUP(A40,A40:AC240,18,0))/VLOOKUP(A40,A40:AC240,29,0),"-")) | AE40: =IF(A40="","",IFERROR((VLOOKUP(A40,A40:AC240,12,0)+VLOOKUP(A40,A40:AC240,20,0))/VLOOKUP(A40,A40:AC240,29,0),"-")) | AF40: =IF(A40="","",IFERROR((VLOOKUP(A40,A40:AC240,14,0)+VLOOKUP(A40,A40:AC240,22,0))/VLOOKUP(A40,A40:AC240,29,0),"-")) | AG40: =IF(A40="","",IFERROR((VLOOKUP(A40,A40:AC240,16,0)+VLOOKUP(A40,A40:AC240,24,0))/VLOOKUP(A40,A40:AC240,29,0),"-")) | AH40: =IF(A40="","",IFERROR(VLOOKUP(A40,A40:AC240,26,0)/VLOOKUP(A40,A40:AC240,29,0),"-")) | AI40: =IF(A40="","",IFERROR(VLOOKUP(A40,A40:AC240,28,0)/VLOOKUP(A40,A40:AC240,29,0),"-")) | AJ40: =IF(A40="","",IFERROR((VLOOKUP(A40,A40:AC240,10,0)+VLOOKUP(A40,A40:AC240,12,0)+VLOOKUP(A40,A40:AC240,14,0)+VLOOKUP(A40,A40:AC240,16,0)+VLOOKUP(A40,A40:AC240,18,0)+VLOOKUP(A40,A40:AC240,20,0)+VLOOKUP(A40,A40:AC240,22,0)+VLOOKUP(A40,A40:AC240,24,0)+VLOOKUP(A40,A40:AC240,26,0)+VLOOKUP(A40,A40:AC240,28,0))/VLOOKUP(A40,A40:AC240,29,0),"-")) | AK40: =IF(A40="","",IFERROR(VLOOKUP(A40,A40:AC240,10,0)/VLOOKUP(A40,A40:AC240,9,0),"-")) | AL40: =IF(A40="","",IFERROR(VLOOKUP(A40,A40:AC240,12,0)/VLOOKUP(A40,A40:AC240,11,0),"-")) | AM40: =IF(A40="","",IFERROR(VLOOKUP(A40,A40:AC240,14,0)/VLOOKUP(A40,A40:AC240,13,0),"-")) | AN40: =IF(A40="","",IFERROR(VLOOKUP(A40,A40:AC240,16,0)/VLOOKUP(A40,A40:AC240,15,0),"-")) | AO40: =IF(A40="","",IFERROR(VLOOKUP(A40,A40:AC240,18,0)/VLOOKUP(A40,A40:AC240,17,0),"-")) | AP40: =IF(A40="","",IFERROR(VLOOKUP(A40,A40:AC240,20,0)/VLOOKUP(A40,A40:AC240,19,0),"-")) | AQ40: =IF(A40="","",IFERROR(VLOOKUP(A40,A40:AC240,22,0)/VLOOKUP(A40,A40:AC240,21,0),"-")) | AR40: =IF(A40="","",IFERROR(VLOOKUP(A40,A40:AC240,24,0)/VLOOKUP(A40,A40:AC240,23,0),"-")) | AS40: =IF(A40="","",IFERROR(VLOOKUP(A40,A40:AC240,26,0)/VLOOKUP(A40,A40:AC240,25,0),"-")) | AT40: =IF(A40="","",IFERROR(VLOOKUP(A40,A40:AC240,28,0)/VLOOKUP(A40,A40:AC240,27,0),"-"))
A41: {=INDIRECT("D" & ROW())&INDIRECT("F" & ROW())} | D41: =IFERROR(VLOOKUP($E$5&E41,Sites,4,FALSE),"") | AD41: =IF(A41="","",IFERROR((VLOOKUP(A41,A41:AC241,10,0)+VLOOKUP(A41,A41:AC241,18,0))/VLOOKUP(A41,A41:AC241,29,0),"-")) | AE41: =IF(A41="","",IFERROR((VLOOKUP(A41,A41:AC241,12,0)+VLOOKUP(A41,A41:AC241,20,0))/VLOOKUP(A41,A41:AC241,29,0),"-")) | AF41: =IF(A41="","",IFERROR((VLOOKUP(A41,A41:AC241,14,0)+VLOOKUP(A41,A41:AC241,22,0))/VLOOKUP(A41,A41:AC241,29,0),"-")) | AG41: =IF(A41="","",IFERROR((VLOOKUP(A41,A41:AC241,16,0)+VLOOKUP(A41,A41:AC241,24,0))/VLOOKUP(A41,A41:AC241,29,0),"-")) | AH41: =IF(A41="","",IFERROR(VLOOKUP(A41,A41:AC241,26,0)/VLOOKUP(A41,A41:AC241,29,0),"-")) | AI41: =IF(A41="","",IFERROR(VLOOKUP(A41,A41:AC241,28,0)/VLOOKUP(A41,A41:AC241,29,0),"-")) | AJ41: =IF(A41="","",IFERROR((VLOOKUP(A41,A41:AC241,10,0)+VLOOKUP(A41,A41:AC241,12,0)+VLOOKUP(A41,A41:AC241,14,0)+VLOOKUP(A41,A41:AC241,16,0)+VLOOKUP(A41,A41:AC241,18,0)+VLOOKUP(A41,A41:AC241,20,0)+VLOOKUP(A41,A41:AC241,22,0)+VLOOKUP(A41,A41:AC241,24,0)+VLOOKUP(A41,A41:AC241,26,0)+VLOOKUP(A41,A41:AC241,28,0))/VLOOKUP(A41,A41:AC241,29,0),"-")) | AK41: =IF(A41="","",IFERROR(VLOOKUP(A41,A41:AC241,10,0)/VLOOKUP(A41,A41:AC241,9,0),"-")) | AL41: =IF(A41="","",IFERROR(VLOOKUP(A41,A41:AC241,12,0)/VLOOKUP(A41,A41:AC241,11,0),"-")) | AM41: =IF(A41="","",IFERROR(VLOOKUP(A41,A41:AC241,14,0)/VLOOKUP(A41,A41:AC241,13,0),"-")) | AN41: =IF(A41="","",IFERROR(VLOOKUP(A41,A41:AC241,16,0)/VLOOKUP(A41,A41:AC241,15,0),"-")) | AO41: =IF(A41="","",IFERROR(VLOOKUP(A41,A41:AC241,18,0)/VLOOKUP(A41,A41:AC241,17,0),"-")) | AP41: =IF(A41="","",IFERROR(VLOOKUP(A41,A41:AC241,20,0)/VLOOKUP(A41,A41:AC241,19,0),"-")) | AQ41: =IF(A41="","",IFERROR(VLOOKUP(A41,A41:AC241,22,0)/VLOOKUP(A41,A41:AC241,21,0),"-")) | AR41: =IF(A41="","",IFERROR(VLOOKUP(A41,A41:AC241,24,0)/VLOOKUP(A41,A41:AC241,23,0),"-")) | AS41: =IF(A41="","",IFERROR(VLOOKUP(A41,A41:AC241,26,0)/VLOOKUP(A41,A41:AC241,25,0),"-")) | AT41: =IF(A41="","",IFERROR(VLOOKUP(A41,A41:AC241,28,0)/VLOOKUP(A41,A41:AC241,27,0),"-"))
A42: {=INDIRECT("D" & ROW())&INDIRECT("F" & ROW())} | D42: =IFERROR(VLOOKUP($E$5&E42,Sites,4,FALSE),"") | AD42: =IF(A42="","",IFERROR((VLOOKUP(A42,A42:AC242,10,0)+VLOOKUP(A42,A42:AC242,18,0))/VLOOKUP(A42,A42:AC242,29,0),"-")) | AE42: =IF(A42="","",IFERROR((VLOOKUP(A42,A42:AC242,12,0)+VLOOKUP(A42,A42:AC242,20,0))/VLOOKUP(A42,A42:AC242,29,0),"-")) | AF42: =IF(A42="","",IFERROR((VLOOKUP(A42,A42:AC242,14,0)+VLOOKUP(A42,A42:AC242,22,0))/VLOOKUP(A42,A42:AC242,29,0),"-")) | AG42: =IF(A42="","",IFERROR((VLOOKUP(A42,A42:AC242,16,0)+VLOOKUP(A42,A42:AC242,24,0))/VLOOKUP(A42,A42:AC242,29,0),"-")) | AH42: =IF(A42="","",IFERROR(VLOOKUP(A42,A42:AC242,26,0)/VLOOKUP(A42,A42:AC242,29,0),"-")) | AI42: =IF(A42="","",IFERROR(VLOOKUP(A42,A42:AC242,28,0)/VLOOKUP(A42,A42:AC242,29,0),"-")) | AJ42: =IF(A42="","",IFERROR((VLOOKUP(A42,A42:AC242,10,0)+VLOOKUP(A42,A42:AC242,12,0)+VLOOKUP(A42,A42:AC242,14,0)+VLOOKUP(A42,A42:AC242,16,0)+VLOOKUP(A42,A42:AC242,18,0)+VLOOKUP(A42,A42:AC242,20,0)+VLOOKUP(A42,A42:AC242,22,0)+VLOOKUP(A42,A42:AC242,24,0)+VLOOKUP(A42,A42:AC242,26,0)+VLOOKUP(A42,A42:AC242,28,0))/VLOOKUP(A42,A42:AC242,29,0),"-")) | AK42: =IF(A42="","",IFERROR(VLOOKUP(A42,A42:AC242,10,0)/VLOOKUP(A42,A42:AC242,9,0),"-")) | AL42: =IF(A42="","",IFERROR(VLOOKUP(A42,A42:AC242,12,0)/VLOOKUP(A42,A42:AC242,11,0),"-")) | AM42: =IF(A42="","",IFERROR(VLOOKUP(A42,A42:AC242,14,0)/VLOOKUP(A42,A42:AC242,13,0),"-")) | AN42: =IF(A42="","",IFERROR(VLOOKUP(A42,A42:AC242,16,0)/VLOOKUP(A42,A42:AC242,15,0),"-")) | AO42: =IF(A42="","",IFERROR(VLOOKUP(A42,A42:AC242,18,0)/VLOOKUP(A42,A42:AC242,17,0),"-")) | AP42: =IF(A42="","",IFERROR(VLOOKUP(A42,A42:AC242,20,0)/VLOOKUP(A42,A42:AC242,19,0),"-")) | AQ42: =IF(A42="","",IFERROR(VLOOKUP(A42,A42:AC242,22,0)/VLOOKUP(A42,A42:AC242,21,0),"-")) | AR42: =IF(A42="","",IFERROR(VLOOKUP(A42,A42:AC242,24,0)/VLOOKUP(A42,A42:AC242,23,0),"-")) | AS42: =IF(A42="","",IFERROR(VLOOKUP(A42,A42:AC242,26,0)/VLOOKUP(A42,A42:AC242,25,0),"-")) | AT42: =IF(A42="","",IFERROR(VLOOKUP(A42,A42:AC242,28,0)/VLOOKUP(A42,A42:AC242,27,0),"-"))
